BEGIN:VCALENDAR
VERSION:2.0
PRODID:-//MKKM - ECPv6.15.20//NONSGML v1.0//EN
CALSCALE:GREGORIAN
METHOD:PUBLISH
X-WR-CALNAME:MKKM
X-ORIGINAL-URL:https://mkkm.nl
X-WR-CALDESC:Evenementen voor MKKM
REFRESH-INTERVAL;VALUE=DURATION:PT1H
X-Robots-Tag:noindex
X-PUBLISHED-TTL:PT1H
BEGIN:VTIMEZONE
TZID:Europe/Amsterdam
BEGIN:DAYLIGHT
TZOFFSETFROM:+0100
TZOFFSETTO:+0200
TZNAME:CEST
DTSTART:20250330T010000
END:DAYLIGHT
BEGIN:STANDARD
TZOFFSETFROM:+0200
TZOFFSETTO:+0100
TZNAME:CET
DTSTART:20251026T010000
END:STANDARD
BEGIN:DAYLIGHT
TZOFFSETFROM:+0100
TZOFFSETTO:+0200
TZNAME:CEST
DTSTART:20260329T010000
END:DAYLIGHT
BEGIN:STANDARD
TZOFFSETFROM:+0200
TZOFFSETTO:+0100
TZNAME:CET
DTSTART:20261025T010000
END:STANDARD
BEGIN:DAYLIGHT
TZOFFSETFROM:+0100
TZOFFSETTO:+0200
TZNAME:CEST
DTSTART:20270328T010000
END:DAYLIGHT
BEGIN:STANDARD
TZOFFSETFROM:+0200
TZOFFSETTO:+0100
TZNAME:CET
DTSTART:20271031T010000
END:STANDARD
END:VTIMEZONE
BEGIN:VEVENT
DTSTART;TZID=Europe/Amsterdam:20260318T190000
DTEND;TZID=Europe/Amsterdam:20260318T201500
DTSTAMP:20260419T173128
CREATED:20260107T075801Z
LAST-MODIFIED:20260120T100053Z
UID:142-1773860400-1773864900@mkkm.nl
SUMMARY:Les Leeuwarden - Gevorderden
DESCRIPTION:Gevorderden;;;;;;;;;;;;;;;
URL:https://mkkm.nl/event/les-leeuwarden-gevorderden-9/
LOCATION:Leslocatie Leeuwarden\, Icarusweg 36\, Leeuwarden\, 8938AX\, Netherlands
CATEGORIES:Leslocatie Leeuwarden
END:VEVENT
BEGIN:VEVENT
DTSTART;TZID=Europe/Amsterdam:20260318T202000
DTEND;TZID=Europe/Amsterdam:20260318T213000
DTSTAMP:20260419T173128
CREATED:20260107T075801Z
LAST-MODIFIED:20260120T100053Z
UID:143-1773865200-1773869400@mkkm.nl
SUMMARY:Les Leeuwarden - Starters
DESCRIPTION:Starters;;;;;;;;;;;;;;;
URL:https://mkkm.nl/event/les-leeuwarden-starters-9/
LOCATION:Leslocatie Leeuwarden\, Icarusweg 36\, Leeuwarden\, 8938AX\, Netherlands
CATEGORIES:Leslocatie Leeuwarden
END:VEVENT
BEGIN:VEVENT
DTSTART;TZID=Europe/Amsterdam:20260320T193000
DTEND;TZID=Europe/Amsterdam:20260320T204500
DTSTAMP:20260419T173128
CREATED:20260107T075801Z
LAST-MODIFIED:20260120T100053Z
UID:145-1774035000-1774039500@mkkm.nl
SUMMARY:Les Leeuwarden - Starters en gevorderden
DESCRIPTION:Starters en gevorderden;;;;;;;;;;;;;;;
URL:https://mkkm.nl/event/les-leeuwarden-starters-en-gevorderden-9/
LOCATION:Leslocatie Leeuwarden\, Icarusweg 36\, Leeuwarden\, 8938AX\, Netherlands
CATEGORIES:Leslocatie Leeuwarden
END:VEVENT
BEGIN:VEVENT
DTSTART;TZID=Europe/Amsterdam:20260325T190000
DTEND;TZID=Europe/Amsterdam:20260325T201500
DTSTAMP:20260419T173128
CREATED:20260107T075817Z
LAST-MODIFIED:20260120T100254Z
UID:148-1774465200-1774469700@mkkm.nl
SUMMARY:Les Leeuwarden - Gevorderden
DESCRIPTION:Gevorderden;;;;;;;;;;;;;;;
URL:https://mkkm.nl/event/les-leeuwarden-gevorderden-10/
LOCATION:Leslocatie Leeuwarden\, Icarusweg 36\, Leeuwarden\, 8938AX\, Netherlands
CATEGORIES:Leslocatie Leeuwarden
END:VEVENT
BEGIN:VEVENT
DTSTART;TZID=Europe/Amsterdam:20260325T202000
DTEND;TZID=Europe/Amsterdam:20260325T213000
DTSTAMP:20260419T173128
CREATED:20260107T075817Z
LAST-MODIFIED:20260120T100254Z
UID:149-1774470000-1774474200@mkkm.nl
SUMMARY:Les Leeuwarden - Starters
DESCRIPTION:Starters;;;;;;;;;;;;;;;
URL:https://mkkm.nl/event/les-leeuwarden-starters-10/
LOCATION:Leslocatie Leeuwarden\, Icarusweg 36\, Leeuwarden\, 8938AX\, Netherlands
CATEGORIES:Leslocatie Leeuwarden
END:VEVENT
BEGIN:VEVENT
DTSTART;TZID=Europe/Amsterdam:20260327T193000
DTEND;TZID=Europe/Amsterdam:20260327T204500
DTSTAMP:20260419T173128
CREATED:20260107T075817Z
LAST-MODIFIED:20260120T100254Z
UID:151-1774639800-1774644300@mkkm.nl
SUMMARY:Les Leeuwarden - Starters en gevorderden
DESCRIPTION:Starters en gevorderden;;;;;;;;;;;;;;;
URL:https://mkkm.nl/event/les-leeuwarden-starters-en-gevorderden-10/
LOCATION:Leslocatie Leeuwarden\, Icarusweg 36\, Leeuwarden\, 8938AX\, Netherlands
CATEGORIES:Leslocatie Leeuwarden
END:VEVENT
BEGIN:VEVENT
DTSTART;TZID=Europe/Amsterdam:20260401T190000
DTEND;TZID=Europe/Amsterdam:20260401T201500
DTSTAMP:20260419T173128
CREATED:20260107T075826Z
LAST-MODIFIED:20260120T100455Z
UID:154-1775070000-1775074500@mkkm.nl
SUMMARY:Les Leeuwarden - Gevorderden
DESCRIPTION:Gevorderden;;;;;;;;;;;;;;;
URL:https://mkkm.nl/event/les-leeuwarden-gevorderden-11/
LOCATION:Leslocatie Leeuwarden\, Icarusweg 36\, Leeuwarden\, 8938AX\, Netherlands
CATEGORIES:Leslocatie Leeuwarden
END:VEVENT
BEGIN:VEVENT
DTSTART;TZID=Europe/Amsterdam:20260401T202000
DTEND;TZID=Europe/Amsterdam:20260401T213000
DTSTAMP:20260419T173128
CREATED:20260107T075826Z
LAST-MODIFIED:20260120T100455Z
UID:155-1775074800-1775079000@mkkm.nl
SUMMARY:Les Leeuwarden - Starters
DESCRIPTION:Starters;;;;;;;;;;;;;;;
URL:https://mkkm.nl/event/les-leeuwarden-starters-11/
LOCATION:Leslocatie Leeuwarden\, Icarusweg 36\, Leeuwarden\, 8938AX\, Netherlands
CATEGORIES:Leslocatie Leeuwarden
END:VEVENT
BEGIN:VEVENT
DTSTART;TZID=Europe/Amsterdam:20260408T190000
DTEND;TZID=Europe/Amsterdam:20260408T201500
DTSTAMP:20260419T173128
CREATED:20260107T075829Z
LAST-MODIFIED:20260120T100656Z
UID:160-1775674800-1775679300@mkkm.nl
SUMMARY:Les Leeuwarden - Gevorderden
DESCRIPTION:Gevorderden;;;;;;;;;;;;;;;
URL:https://mkkm.nl/event/les-leeuwarden-gevorderden-12/
LOCATION:Leslocatie Leeuwarden\, Icarusweg 36\, Leeuwarden\, 8938AX\, Netherlands
CATEGORIES:Leslocatie Leeuwarden
END:VEVENT
BEGIN:VEVENT
DTSTART;TZID=Europe/Amsterdam:20260408T202000
DTEND;TZID=Europe/Amsterdam:20260408T213000
DTSTAMP:20260419T173128
CREATED:20260107T075829Z
LAST-MODIFIED:20260120T100656Z
UID:161-1775679600-1775683800@mkkm.nl
SUMMARY:Les Leeuwarden - Starters
DESCRIPTION:Starters;;;;;;;;;;;;;;;
URL:https://mkkm.nl/event/les-leeuwarden-starters-12/
LOCATION:Leslocatie Leeuwarden\, Icarusweg 36\, Leeuwarden\, 8938AX\, Netherlands
CATEGORIES:Leslocatie Leeuwarden
END:VEVENT
BEGIN:VEVENT
DTSTART;TZID=Europe/Amsterdam:20260410T193000
DTEND;TZID=Europe/Amsterdam:20260410T204500
DTSTAMP:20260419T173128
CREATED:20260107T075845Z
LAST-MODIFIED:20260120T100656Z
UID:163-1775849400-1775853900@mkkm.nl
SUMMARY:Les Leeuwarden - Starters en gevorderden
DESCRIPTION:Starters en gevorderden;;;;;;;;;;;;;;;
URL:https://mkkm.nl/event/les-leeuwarden-starters-en-gevorderden-12/
LOCATION:Leslocatie Leeuwarden\, Icarusweg 36\, Leeuwarden\, 8938AX\, Netherlands
CATEGORIES:Leslocatie Leeuwarden
END:VEVENT
BEGIN:VEVENT
DTSTART;TZID=Europe/Amsterdam:20260415T190000
DTEND;TZID=Europe/Amsterdam:20260415T201500
DTSTAMP:20260419T173128
CREATED:20260107T075845Z
LAST-MODIFIED:20260120T101649Z
UID:166-1776279600-1776284100@mkkm.nl
SUMMARY:Les Leeuwarden - Gevorderden
DESCRIPTION:Gevorderden;;;;;;;;;;;;;;;
URL:https://mkkm.nl/event/les-leeuwarden-gevorderden-13/
LOCATION:Leslocatie Leeuwarden\, Icarusweg 36\, Leeuwarden\, 8938AX\, Netherlands
CATEGORIES:Leslocatie Leeuwarden
END:VEVENT
BEGIN:VEVENT
DTSTART;TZID=Europe/Amsterdam:20260415T202000
DTEND;TZID=Europe/Amsterdam:20260415T213000
DTSTAMP:20260419T173128
CREATED:20260107T075901Z
LAST-MODIFIED:20260120T101649Z
UID:168-1776284400-1776288600@mkkm.nl
SUMMARY:Les Leeuwarden - Starters
DESCRIPTION:Starters;;;;;;;;;;;;;;;
URL:https://mkkm.nl/event/les-leeuwarden-starters-13/
LOCATION:Leslocatie Leeuwarden\, Icarusweg 36\, Leeuwarden\, 8938AX\, Netherlands
CATEGORIES:Leslocatie Leeuwarden
END:VEVENT
BEGIN:VEVENT
DTSTART;TZID=Europe/Amsterdam:20260417T193000
DTEND;TZID=Europe/Amsterdam:20260417T204500
DTSTAMP:20260419T173128
CREATED:20260107T075901Z
LAST-MODIFIED:20260120T101703Z
UID:170-1776454200-1776458700@mkkm.nl
SUMMARY:Les Leeuwarden - Starters en gevorderden
DESCRIPTION:Starters en gevorderden;;;;;;;;;;;;;;;
URL:https://mkkm.nl/event/les-leeuwarden-starters-en-gevorderden-13/
LOCATION:Leslocatie Leeuwarden\, Icarusweg 36\, Leeuwarden\, 8938AX\, Netherlands
CATEGORIES:Leslocatie Leeuwarden
END:VEVENT
BEGIN:VEVENT
DTSTART;TZID=Europe/Amsterdam:20260422T190000
DTEND;TZID=Europe/Amsterdam:20260422T201500
DTSTAMP:20260419T173128
CREATED:20260107T075915Z
LAST-MODIFIED:20260120T101704Z
UID:173-1776884400-1776888900@mkkm.nl
SUMMARY:Les Leeuwarden - Gevorderden
DESCRIPTION:Gevorderden;;;;;;;;;;;;;;;
URL:https://mkkm.nl/event/les-leeuwarden-gevorderden-14/
LOCATION:Leslocatie Leeuwarden\, Icarusweg 36\, Leeuwarden\, 8938AX\, Netherlands
CATEGORIES:Leslocatie Leeuwarden
END:VEVENT
BEGIN:VEVENT
DTSTART;TZID=Europe/Amsterdam:20260422T202000
DTEND;TZID=Europe/Amsterdam:20260422T213000
DTSTAMP:20260419T173128
CREATED:20260107T075915Z
LAST-MODIFIED:20260120T101704Z
UID:174-1776889200-1776893400@mkkm.nl
SUMMARY:Les Leeuwarden - Starters
DESCRIPTION:Starters;;;;;;;;;;;;;;;
URL:https://mkkm.nl/event/les-leeuwarden-starters-14/
LOCATION:Leslocatie Leeuwarden\, Icarusweg 36\, Leeuwarden\, 8938AX\, Netherlands
CATEGORIES:Leslocatie Leeuwarden
END:VEVENT
BEGIN:VEVENT
DTSTART;TZID=Europe/Amsterdam:20260424T193000
DTEND;TZID=Europe/Amsterdam:20260424T204500
DTSTAMP:20260419T173128
CREATED:20260107T075915Z
LAST-MODIFIED:20260120T101719Z
UID:176-1777059000-1777063500@mkkm.nl
SUMMARY:Les Leeuwarden - Starters en gevorderden
DESCRIPTION:Starters en gevorderden;;;;;;;;;;;;;;;
URL:https://mkkm.nl/event/les-leeuwarden-starters-en-gevorderden-14/
LOCATION:Leslocatie Leeuwarden\, Icarusweg 36\, Leeuwarden\, 8938AX\, Netherlands
CATEGORIES:Leslocatie Leeuwarden
END:VEVENT
BEGIN:VEVENT
DTSTART;TZID=Europe/Amsterdam:20260506T190000
DTEND;TZID=Europe/Amsterdam:20260506T201500
DTSTAMP:20260419T173128
CREATED:20260107T075920Z
LAST-MODIFIED:20260120T101719Z
UID:179-1778094000-1778098500@mkkm.nl
SUMMARY:Les Leeuwarden - Gevorderden
DESCRIPTION:Gevorderden;;;;;;;;;;;;;;;
URL:https://mkkm.nl/event/les-leeuwarden-gevorderden-15/
LOCATION:Leslocatie Leeuwarden\, Icarusweg 36\, Leeuwarden\, 8938AX\, Netherlands
CATEGORIES:Leslocatie Leeuwarden
END:VEVENT
BEGIN:VEVENT
DTSTART;TZID=Europe/Amsterdam:20260506T202000
DTEND;TZID=Europe/Amsterdam:20260506T213000
DTSTAMP:20260419T173128
CREATED:20260107T075920Z
LAST-MODIFIED:20260120T101719Z
UID:180-1778098800-1778103000@mkkm.nl
SUMMARY:Les Leeuwarden - Starters
DESCRIPTION:Starters;;;;;;;;;;;;;;;
URL:https://mkkm.nl/event/les-leeuwarden-starters-15/
LOCATION:Leslocatie Leeuwarden\, Icarusweg 36\, Leeuwarden\, 8938AX\, Netherlands
CATEGORIES:Leslocatie Leeuwarden
END:VEVENT
BEGIN:VEVENT
DTSTART;TZID=Europe/Amsterdam:20260508T193000
DTEND;TZID=Europe/Amsterdam:20260508T204500
DTSTAMP:20260419T173128
CREATED:20260107T075920Z
LAST-MODIFIED:20260120T101734Z
UID:182-1778268600-1778273100@mkkm.nl
SUMMARY:Les Leeuwarden - Starters en gevorderden
DESCRIPTION:Starters en gevorderden;;;;;;;;;;;;;;;
URL:https://mkkm.nl/event/les-leeuwarden-starters-en-gevorderden-15/
LOCATION:Leslocatie Leeuwarden\, Icarusweg 36\, Leeuwarden\, 8938AX\, Netherlands
CATEGORIES:Leslocatie Leeuwarden
END:VEVENT
BEGIN:VEVENT
DTSTART;TZID=Europe/Amsterdam:20260509T090000
DTEND;TZID=Europe/Amsterdam:20260509T160000
DTSTAMP:20260419T173128
CREATED:20260120T101734Z
LAST-MODIFIED:20260120T101734Z
UID:715-1778317200-1778342400@mkkm.nl
SUMMARY:P1-P2-P3 training - Iedereen
DESCRIPTION:Aanmelding;;;;;;;;;;;;;;;
URL:https://mkkm.nl/event/p1-p2-p3-training-iedereen/
LOCATION:Leslocatie Leeuwarden\, Icarusweg 36\, Leeuwarden\, 8938AX\, Netherlands
CATEGORIES:Leslocatie Leeuwarden
END:VEVENT
BEGIN:VEVENT
DTSTART;TZID=Europe/Amsterdam:20260513T190000
DTEND;TZID=Europe/Amsterdam:20260513T201500
DTSTAMP:20260419T173128
CREATED:20260107T075923Z
LAST-MODIFIED:20260120T101749Z
UID:185-1778698800-1778703300@mkkm.nl
SUMMARY:Les Leeuwarden - Gevorderden
DESCRIPTION:Gevorderden;;;;;;;;;;;;;;;
URL:https://mkkm.nl/event/les-leeuwarden-gevorderden-16/
LOCATION:Leslocatie Leeuwarden\, Icarusweg 36\, Leeuwarden\, 8938AX\, Netherlands
CATEGORIES:Leslocatie Leeuwarden
END:VEVENT
BEGIN:VEVENT
DTSTART;TZID=Europe/Amsterdam:20260513T202000
DTEND;TZID=Europe/Amsterdam:20260513T213000
DTSTAMP:20260419T173128
CREATED:20260107T075923Z
LAST-MODIFIED:20260120T101749Z
UID:186-1778703600-1778707800@mkkm.nl
SUMMARY:Les Leeuwarden - Starters
DESCRIPTION:Starters;;;;;;;;;;;;;;;
URL:https://mkkm.nl/event/les-leeuwarden-starters-16/
LOCATION:Leslocatie Leeuwarden\, Icarusweg 36\, Leeuwarden\, 8938AX\, Netherlands
CATEGORIES:Leslocatie Leeuwarden
END:VEVENT
BEGIN:VEVENT
DTSTART;TZID=Europe/Amsterdam:20260515T193000
DTEND;TZID=Europe/Amsterdam:20260515T204500
DTSTAMP:20260419T173128
CREATED:20260107T075939Z
LAST-MODIFIED:20260120T101749Z
UID:191-1778873400-1778877900@mkkm.nl
SUMMARY:Les Leeuwarden - Starters en gevorderden
DESCRIPTION:Starters en gevorderden;;;;;;;;;;;;;;;
URL:https://mkkm.nl/event/les-leeuwarden-starters-en-gevorderden-16/
LOCATION:Leslocatie Leeuwarden\, Icarusweg 36\, Leeuwarden\, 8938AX\, Netherlands
CATEGORIES:Leslocatie Leeuwarden
END:VEVENT
BEGIN:VEVENT
DTSTART;TZID=Europe/Amsterdam:20260516T090000
DTEND;TZID=Europe/Amsterdam:20260516T160000
DTSTAMP:20260419T173128
CREATED:20260120T101749Z
LAST-MODIFIED:20260120T101749Z
UID:721-1778922000-1778947200@mkkm.nl
SUMMARY:P4-P5-G training - Iedereen
DESCRIPTION:Aanmelding;;;;;;;;;;;;;;;
URL:https://mkkm.nl/event/p4-p5-g-training-iedereen/
LOCATION:Leslocatie Leeuwarden\, Icarusweg 36\, Leeuwarden\, 8938AX\, Netherlands
CATEGORIES:Leslocatie Leeuwarden
END:VEVENT
BEGIN:VEVENT
DTSTART;TZID=Europe/Amsterdam:20260520T190000
DTEND;TZID=Europe/Amsterdam:20260520T201500
DTSTAMP:20260419T173128
CREATED:20260107T075939Z
LAST-MODIFIED:20260120T101804Z
UID:194-1779303600-1779308100@mkkm.nl
SUMMARY:Les Leeuwarden - Gevorderden
DESCRIPTION:Gevorderden;;;;;;;;;;;;;;;
URL:https://mkkm.nl/event/les-leeuwarden-gevorderden-17/
LOCATION:Leslocatie Leeuwarden\, Icarusweg 36\, Leeuwarden\, 8938AX\, Netherlands
CATEGORIES:Leslocatie Leeuwarden
END:VEVENT
BEGIN:VEVENT
DTSTART;TZID=Europe/Amsterdam:20260520T202000
DTEND;TZID=Europe/Amsterdam:20260520T213000
DTSTAMP:20260419T173128
CREATED:20260107T075939Z
LAST-MODIFIED:20260120T101804Z
UID:195-1779308400-1779312600@mkkm.nl
SUMMARY:Les Leeuwarden - Starters
DESCRIPTION:Starters;;;;;;;;;;;;;;;
URL:https://mkkm.nl/event/les-leeuwarden-starters-17/
LOCATION:Leslocatie Leeuwarden\, Icarusweg 36\, Leeuwarden\, 8938AX\, Netherlands
CATEGORIES:Leslocatie Leeuwarden
END:VEVENT
BEGIN:VEVENT
DTSTART;TZID=Europe/Amsterdam:20260522T193000
DTEND;TZID=Europe/Amsterdam:20260522T204500
DTSTAMP:20260419T173128
CREATED:20260107T075955Z
LAST-MODIFIED:20260120T101804Z
UID:197-1779478200-1779482700@mkkm.nl
SUMMARY:Les Leeuwarden - Starters en gevorderden
DESCRIPTION:Starters en gevorderden;;;;;;;;;;;;;;;
URL:https://mkkm.nl/event/les-leeuwarden-starters-en-gevorderden-17/
LOCATION:Leslocatie Leeuwarden\, Icarusweg 36\, Leeuwarden\, 8938AX\, Netherlands
CATEGORIES:Leslocatie Leeuwarden
END:VEVENT
BEGIN:VEVENT
DTSTART;TZID=Europe/Amsterdam:20260527T190000
DTEND;TZID=Europe/Amsterdam:20260527T201500
DTSTAMP:20260419T173128
CREATED:20260107T075955Z
LAST-MODIFIED:20260120T101819Z
UID:200-1779908400-1779912900@mkkm.nl
SUMMARY:Les Leeuwarden - Gevorderden
DESCRIPTION:Gevorderden;;;;;;;;;;;;;;;
URL:https://mkkm.nl/event/les-leeuwarden-gevorderden-18/
LOCATION:Leslocatie Leeuwarden\, Icarusweg 36\, Leeuwarden\, 8938AX\, Netherlands
CATEGORIES:Leslocatie Leeuwarden
END:VEVENT
BEGIN:VEVENT
DTSTART;TZID=Europe/Amsterdam:20260527T202000
DTEND;TZID=Europe/Amsterdam:20260527T213000
DTSTAMP:20260419T173128
CREATED:20260107T080011Z
LAST-MODIFIED:20260120T101819Z
UID:202-1779913200-1779917400@mkkm.nl
SUMMARY:Les Leeuwarden - Starters
DESCRIPTION:Starters;;;;;;;;;;;;;;;
URL:https://mkkm.nl/event/les-leeuwarden-starters-18/
LOCATION:Leslocatie Leeuwarden\, Icarusweg 36\, Leeuwarden\, 8938AX\, Netherlands
CATEGORIES:Leslocatie Leeuwarden
END:VEVENT
END:VCALENDAR