BEGIN:VCALENDAR
VERSION:2.0
PRODID:-//MKKM - ECPv6.15.20//NONSGML v1.0//EN
CALSCALE:GREGORIAN
METHOD:PUBLISH
X-WR-CALNAME:MKKM
X-ORIGINAL-URL:https://mkkm.nl
X-WR-CALDESC:Evenementen voor MKKM
REFRESH-INTERVAL;VALUE=DURATION:PT1H
X-Robots-Tag:noindex
X-PUBLISHED-TTL:PT1H
BEGIN:VTIMEZONE
TZID:Europe/Amsterdam
BEGIN:DAYLIGHT
TZOFFSETFROM:+0100
TZOFFSETTO:+0200
TZNAME:CEST
DTSTART:20250330T010000
END:DAYLIGHT
BEGIN:STANDARD
TZOFFSETFROM:+0200
TZOFFSETTO:+0100
TZNAME:CET
DTSTART:20251026T010000
END:STANDARD
BEGIN:DAYLIGHT
TZOFFSETFROM:+0100
TZOFFSETTO:+0200
TZNAME:CEST
DTSTART:20260329T010000
END:DAYLIGHT
BEGIN:STANDARD
TZOFFSETFROM:+0200
TZOFFSETTO:+0100
TZNAME:CET
DTSTART:20261025T010000
END:STANDARD
BEGIN:DAYLIGHT
TZOFFSETFROM:+0100
TZOFFSETTO:+0200
TZNAME:CEST
DTSTART:20270328T010000
END:DAYLIGHT
BEGIN:STANDARD
TZOFFSETFROM:+0200
TZOFFSETTO:+0100
TZNAME:CET
DTSTART:20271031T010000
END:STANDARD
END:VTIMEZONE
BEGIN:VEVENT
DTSTART;TZID=Europe/Amsterdam:20260107T190000
DTEND;TZID=Europe/Amsterdam:20260107T201500
DTSTAMP:20260419T140927
CREATED:20260107T075624Z
LAST-MODIFIED:20260120T095236Z
UID:92-1767812400-1767816900@mkkm.nl
SUMMARY:Les Leeuwarden - Gevorderden
DESCRIPTION:Gevorderden;;;;;;;;;;;;;;;
URL:https://mkkm.nl/event/les-leeuwarden-gevorderden/
LOCATION:Leslocatie Leeuwarden\, Icarusweg 36\, Leeuwarden\, 8938AX\, Netherlands
CATEGORIES:Leslocatie Leeuwarden
END:VEVENT
BEGIN:VEVENT
DTSTART;TZID=Europe/Amsterdam:20260107T202000
DTEND;TZID=Europe/Amsterdam:20260107T213000
DTSTAMP:20260419T140927
CREATED:20260107T075624Z
LAST-MODIFIED:20260120T095237Z
UID:93-1767817200-1767821400@mkkm.nl
SUMMARY:Les Leeuwarden - Starters
DESCRIPTION:Starters;;;;;;;;;;;;;;;
URL:https://mkkm.nl/event/les-leeuwarden-starters/
LOCATION:Leslocatie Leeuwarden\, Icarusweg 36\, Leeuwarden\, 8938AX\, Netherlands
CATEGORIES:Leslocatie Leeuwarden
END:VEVENT
BEGIN:VEVENT
DTSTART;TZID=Europe/Amsterdam:20260109T193000
DTEND;TZID=Europe/Amsterdam:20260109T204500
DTSTAMP:20260419T140927
CREATED:20260107T075625Z
LAST-MODIFIED:20260120T095237Z
UID:95-1767987000-1767991500@mkkm.nl
SUMMARY:Les Leeuwarden - Starters en gevorderden
DESCRIPTION:Starters en gevorderden;;;;;;;;;;;;;;;
URL:https://mkkm.nl/event/les-leeuwarden-starters-en-gevorderden/
LOCATION:Leslocatie Leeuwarden\, Icarusweg 36\, Leeuwarden\, 8938AX\, Netherlands
CATEGORIES:Leslocatie Leeuwarden
END:VEVENT
BEGIN:VEVENT
DTSTART;TZID=Europe/Amsterdam:20260114T190000
DTEND;TZID=Europe/Amsterdam:20260114T201500
DTSTAMP:20260419T140927
CREATED:20260107T075625Z
LAST-MODIFIED:20260120T095238Z
UID:98-1768417200-1768421700@mkkm.nl
SUMMARY:Les Leeuwarden - Gevorderden
DESCRIPTION:Gevorderden;;;;;;;;;;;;;;;
URL:https://mkkm.nl/event/les-leeuwarden-gevorderden-2/
LOCATION:Leslocatie Leeuwarden\, Icarusweg 36\, Leeuwarden\, 8938AX\, Netherlands
CATEGORIES:Leslocatie Leeuwarden
END:VEVENT
BEGIN:VEVENT
DTSTART;TZID=Europe/Amsterdam:20260114T202000
DTEND;TZID=Europe/Amsterdam:20260114T213000
DTSTAMP:20260419T140927
CREATED:20260107T075625Z
LAST-MODIFIED:20260120T095238Z
UID:99-1768422000-1768426200@mkkm.nl
SUMMARY:Les Leeuwarden - Starters
DESCRIPTION:Starters;;;;;;;;;;;;;;;
URL:https://mkkm.nl/event/les-leeuwarden-starters-2/
LOCATION:Leslocatie Leeuwarden\, Icarusweg 36\, Leeuwarden\, 8938AX\, Netherlands
CATEGORIES:Leslocatie Leeuwarden
END:VEVENT
BEGIN:VEVENT
DTSTART;TZID=Europe/Amsterdam:20260116T193000
DTEND;TZID=Europe/Amsterdam:20260116T204500
DTSTAMP:20260419T140927
CREATED:20260107T075640Z
LAST-MODIFIED:20260120T095253Z
UID:101-1768591800-1768596300@mkkm.nl
SUMMARY:Les Leeuwarden - Starters en gevorderden
DESCRIPTION:Starters en gevorderden;;;;;;;;;;;;;;;
URL:https://mkkm.nl/event/les-leeuwarden-starters-en-gevorderden-2/
LOCATION:Leslocatie Leeuwarden\, Icarusweg 36\, Leeuwarden\, 8938AX\, Netherlands
CATEGORIES:Leslocatie Leeuwarden
END:VEVENT
BEGIN:VEVENT
DTSTART;TZID=Europe/Amsterdam:20260121T190000
DTEND;TZID=Europe/Amsterdam:20260121T201500
DTSTAMP:20260419T140927
CREATED:20260107T075640Z
LAST-MODIFIED:20260120T095253Z
UID:104-1769022000-1769026500@mkkm.nl
SUMMARY:Les Leeuwarden - Gevorderden
DESCRIPTION:Gevorderden;;;;;;;;;;;;;;;
URL:https://mkkm.nl/event/les-leeuwarden-gevorderden-3/
LOCATION:Leslocatie Leeuwarden\, Icarusweg 36\, Leeuwarden\, 8938AX\, Netherlands
CATEGORIES:Leslocatie Leeuwarden
END:VEVENT
BEGIN:VEVENT
DTSTART;TZID=Europe/Amsterdam:20260121T202000
DTEND;TZID=Europe/Amsterdam:20260121T213000
DTSTAMP:20260419T140927
CREATED:20260107T075645Z
LAST-MODIFIED:20260120T095344Z
UID:106-1769026800-1769031000@mkkm.nl
SUMMARY:Les Leeuwarden - Starters
DESCRIPTION:Starters;;;;;;;;;;;;;;;
URL:https://mkkm.nl/event/les-leeuwarden-starters-3/
LOCATION:Leslocatie Leeuwarden\, Icarusweg 36\, Leeuwarden\, 8938AX\, Netherlands
CATEGORIES:Leslocatie Leeuwarden
END:VEVENT
BEGIN:VEVENT
DTSTART;TZID=Europe/Amsterdam:20260123T193000
DTEND;TZID=Europe/Amsterdam:20260123T204500
DTSTAMP:20260419T140927
CREATED:20260107T075645Z
LAST-MODIFIED:20260120T095344Z
UID:108-1769196600-1769201100@mkkm.nl
SUMMARY:Les Leeuwarden - Starters en gevorderden
DESCRIPTION:Starters en gevorderden;;;;;;;;;;;;;;;
URL:https://mkkm.nl/event/les-leeuwarden-starters-en-gevorderden-3/
LOCATION:Leslocatie Leeuwarden\, Icarusweg 36\, Leeuwarden\, 8938AX\, Netherlands
CATEGORIES:Leslocatie Leeuwarden
END:VEVENT
BEGIN:VEVENT
DTSTART;TZID=Europe/Amsterdam:20260128T190000
DTEND;TZID=Europe/Amsterdam:20260128T201500
DTSTAMP:20260419T140927
CREATED:20260107T075655Z
LAST-MODIFIED:20260120T095400Z
UID:111-1769626800-1769631300@mkkm.nl
SUMMARY:Les Leeuwarden - Gevorderden
DESCRIPTION:Gevorderden;;;;;;;;;;;;;;;
URL:https://mkkm.nl/event/les-leeuwarden-gevorderden-4/
LOCATION:Leslocatie Leeuwarden\, Icarusweg 36\, Leeuwarden\, 8938AX\, Netherlands
CATEGORIES:Leslocatie Leeuwarden
END:VEVENT
BEGIN:VEVENT
DTSTART;TZID=Europe/Amsterdam:20260128T202000
DTEND;TZID=Europe/Amsterdam:20260128T213000
DTSTAMP:20260419T140927
CREATED:20260107T075655Z
LAST-MODIFIED:20260120T095400Z
UID:112-1769631600-1769635800@mkkm.nl
SUMMARY:Les Leeuwarden - Starters
DESCRIPTION:Starters;;;;;;;;;;;;;;;
URL:https://mkkm.nl/event/les-leeuwarden-starters-4/
LOCATION:Leslocatie Leeuwarden\, Icarusweg 36\, Leeuwarden\, 8938AX\, Netherlands
CATEGORIES:Leslocatie Leeuwarden
END:VEVENT
BEGIN:VEVENT
DTSTART;TZID=Europe/Amsterdam:20260130T193000
DTEND;TZID=Europe/Amsterdam:20260130T204500
DTSTAMP:20260419T140927
CREATED:20260107T075656Z
LAST-MODIFIED:20260120T095400Z
UID:114-1769801400-1769805900@mkkm.nl
SUMMARY:Les Leeuwarden - Starters en gevorderden
DESCRIPTION:Starters en gevorderden;;;;;;;;;;;;;;;
URL:https://mkkm.nl/event/les-leeuwarden-starters-en-gevorderden-4/
LOCATION:Leslocatie Leeuwarden\, Icarusweg 36\, Leeuwarden\, 8938AX\, Netherlands
CATEGORIES:Leslocatie Leeuwarden
END:VEVENT
BEGIN:VEVENT
DTSTART;TZID=Europe/Amsterdam:20260204T190000
DTEND;TZID=Europe/Amsterdam:20260204T201500
DTSTAMP:20260419T140927
CREATED:20260107T075706Z
LAST-MODIFIED:20260120T095601Z
UID:117-1770231600-1770236100@mkkm.nl
SUMMARY:Les Leeuwarden - Gevorderden
DESCRIPTION:Gevorderden;;;;;;;;;;;;;;;
URL:https://mkkm.nl/event/les-leeuwarden-gevorderden-5/
LOCATION:Leslocatie Leeuwarden\, Icarusweg 36\, Leeuwarden\, 8938AX\, Netherlands
CATEGORIES:Leslocatie Leeuwarden
END:VEVENT
BEGIN:VEVENT
DTSTART;TZID=Europe/Amsterdam:20260204T202000
DTEND;TZID=Europe/Amsterdam:20260204T213000
DTSTAMP:20260419T140927
CREATED:20260107T075706Z
LAST-MODIFIED:20260120T095601Z
UID:118-1770236400-1770240600@mkkm.nl
SUMMARY:Les Leeuwarden - Starters
DESCRIPTION:Starters;;;;;;;;;;;;;;;
URL:https://mkkm.nl/event/les-leeuwarden-starters-5/
LOCATION:Leslocatie Leeuwarden\, Icarusweg 36\, Leeuwarden\, 8938AX\, Netherlands
CATEGORIES:Leslocatie Leeuwarden
END:VEVENT
BEGIN:VEVENT
DTSTART;TZID=Europe/Amsterdam:20260206T193000
DTEND;TZID=Europe/Amsterdam:20260206T204500
DTSTAMP:20260419T140927
CREATED:20260107T075706Z
LAST-MODIFIED:20260120T095601Z
UID:120-1770406200-1770410700@mkkm.nl
SUMMARY:Les Leeuwarden - Starters en gevorderden
DESCRIPTION:Starters en gevorderden;;;;;;;;;;;;;;;
URL:https://mkkm.nl/event/les-leeuwarden-starters-en-gevorderden-5/
LOCATION:Leslocatie Leeuwarden\, Icarusweg 36\, Leeuwarden\, 8938AX\, Netherlands
CATEGORIES:Leslocatie Leeuwarden
END:VEVENT
BEGIN:VEVENT
DTSTART;TZID=Europe/Amsterdam:20260211T190000
DTEND;TZID=Europe/Amsterdam:20260211T201500
DTSTAMP:20260419T140927
CREATED:20260107T075711Z
LAST-MODIFIED:20260120T095652Z
UID:123-1770836400-1770840900@mkkm.nl
SUMMARY:Les Leeuwarden - Gevorderden
DESCRIPTION:Gevorderden;;;;;;;;;;;;;;;
URL:https://mkkm.nl/event/les-leeuwarden-gevorderden-6/
LOCATION:Leslocatie Leeuwarden\, Icarusweg 36\, Leeuwarden\, 8938AX\, Netherlands
CATEGORIES:Leslocatie Leeuwarden
END:VEVENT
BEGIN:VEVENT
DTSTART;TZID=Europe/Amsterdam:20260211T202000
DTEND;TZID=Europe/Amsterdam:20260211T213000
DTSTAMP:20260419T140927
CREATED:20260107T075712Z
LAST-MODIFIED:20260120T095652Z
UID:124-1770841200-1770845400@mkkm.nl
SUMMARY:Les Leeuwarden - Starters
DESCRIPTION:Starters;;;;;;;;;;;;;;;
URL:https://mkkm.nl/event/les-leeuwarden-starters-6/
LOCATION:Leslocatie Leeuwarden\, Icarusweg 36\, Leeuwarden\, 8938AX\, Netherlands
CATEGORIES:Leslocatie Leeuwarden
END:VEVENT
BEGIN:VEVENT
DTSTART;TZID=Europe/Amsterdam:20260213T193000
DTEND;TZID=Europe/Amsterdam:20260213T204500
DTSTAMP:20260419T140927
CREATED:20260107T075727Z
LAST-MODIFIED:20260120T095707Z
UID:126-1771011000-1771015500@mkkm.nl
SUMMARY:Les Leeuwarden - Starters en gevorderden
DESCRIPTION:Starters en gevorderden;;;;;;;;;;;;;;;
URL:https://mkkm.nl/event/les-leeuwarden-starters-en-gevorderden-6/
LOCATION:Leslocatie Leeuwarden\, Icarusweg 36\, Leeuwarden\, 8938AX\, Netherlands
CATEGORIES:Leslocatie Leeuwarden
END:VEVENT
BEGIN:VEVENT
DTSTART;TZID=Europe/Amsterdam:20260304T190000
DTEND;TZID=Europe/Amsterdam:20260304T201500
DTSTAMP:20260419T140927
CREATED:20260107T075728Z
LAST-MODIFIED:20260120T095707Z
UID:129-1772650800-1772655300@mkkm.nl
SUMMARY:Les Leeuwarden - Gevorderden
DESCRIPTION:Gevorderden;;;;;;;;;;;;;;;
URL:https://mkkm.nl/event/les-leeuwarden-gevorderden-7/
LOCATION:Leslocatie Leeuwarden\, Icarusweg 36\, Leeuwarden\, 8938AX\, Netherlands
CATEGORIES:Leslocatie Leeuwarden
END:VEVENT
BEGIN:VEVENT
DTSTART;TZID=Europe/Amsterdam:20260304T202000
DTEND;TZID=Europe/Amsterdam:20260304T213000
DTSTAMP:20260419T140927
CREATED:20260107T075728Z
LAST-MODIFIED:20260120T095707Z
UID:130-1772655600-1772659800@mkkm.nl
SUMMARY:Les Leeuwarden - Starters
DESCRIPTION:Starters;;;;;;;;;;;;;;;
URL:https://mkkm.nl/event/les-leeuwarden-starters-7/
LOCATION:Leslocatie Leeuwarden\, Icarusweg 36\, Leeuwarden\, 8938AX\, Netherlands
CATEGORIES:Leslocatie Leeuwarden
END:VEVENT
BEGIN:VEVENT
DTSTART;TZID=Europe/Amsterdam:20260306T193000
DTEND;TZID=Europe/Amsterdam:20260306T204500
DTSTAMP:20260419T140927
CREATED:20260107T075743Z
LAST-MODIFIED:20260120T095836Z
UID:132-1772825400-1772829900@mkkm.nl
SUMMARY:Les Leeuwarden - Starters en gevorderden
DESCRIPTION:Starters en gevorderden;;;;;;;;;;;;;;;
URL:https://mkkm.nl/event/les-leeuwarden-starters-en-gevorderden-7/
LOCATION:Leslocatie Leeuwarden\, Icarusweg 36\, Leeuwarden\, 8938AX\, Netherlands
CATEGORIES:Leslocatie Leeuwarden
END:VEVENT
BEGIN:VEVENT
DTSTART;TZID=Europe/Amsterdam:20260311T190000
DTEND;TZID=Europe/Amsterdam:20260311T201500
DTSTAMP:20260419T140927
CREATED:20260107T075744Z
LAST-MODIFIED:20260120T095836Z
UID:135-1773255600-1773260100@mkkm.nl
SUMMARY:Les Leeuwarden - Gevorderden
DESCRIPTION:Gevorderden;;;;;;;;;;;;;;;
URL:https://mkkm.nl/event/les-leeuwarden-gevorderden-8/
LOCATION:Leslocatie Leeuwarden\, Icarusweg 36\, Leeuwarden\, 8938AX\, Netherlands
CATEGORIES:Leslocatie Leeuwarden
END:VEVENT
BEGIN:VEVENT
DTSTART;TZID=Europe/Amsterdam:20260311T202000
DTEND;TZID=Europe/Amsterdam:20260311T213000
DTSTAMP:20260419T140927
CREATED:20260107T075745Z
LAST-MODIFIED:20260120T095852Z
UID:136-1773260400-1773264600@mkkm.nl
SUMMARY:Les Leeuwarden - Starters
DESCRIPTION:Starters;;;;;;;;;;;;;;;
URL:https://mkkm.nl/event/les-leeuwarden-starters-8/
LOCATION:Leslocatie Leeuwarden\, Icarusweg 36\, Leeuwarden\, 8938AX\, Netherlands
CATEGORIES:Leslocatie Leeuwarden
END:VEVENT
BEGIN:VEVENT
DTSTART;TZID=Europe/Amsterdam:20260313T193000
DTEND;TZID=Europe/Amsterdam:20260313T204500
DTSTAMP:20260419T140927
CREATED:20260107T075745Z
LAST-MODIFIED:20260120T095852Z
UID:138-1773430200-1773434700@mkkm.nl
SUMMARY:Les Leeuwarden - Starters en gevorderden
DESCRIPTION:Starters en gevorderden;;;;;;;;;;;;;;;
URL:https://mkkm.nl/event/les-leeuwarden-starters-en-gevorderden-8/
LOCATION:Leslocatie Leeuwarden\, Icarusweg 36\, Leeuwarden\, 8938AX\, Netherlands
CATEGORIES:Leslocatie Leeuwarden
END:VEVENT
BEGIN:VEVENT
DTSTART;TZID=Europe/Amsterdam:20260318T190000
DTEND;TZID=Europe/Amsterdam:20260318T201500
DTSTAMP:20260419T140927
CREATED:20260107T075801Z
LAST-MODIFIED:20260120T100053Z
UID:142-1773860400-1773864900@mkkm.nl
SUMMARY:Les Leeuwarden - Gevorderden
DESCRIPTION:Gevorderden;;;;;;;;;;;;;;;
URL:https://mkkm.nl/event/les-leeuwarden-gevorderden-9/
LOCATION:Leslocatie Leeuwarden\, Icarusweg 36\, Leeuwarden\, 8938AX\, Netherlands
CATEGORIES:Leslocatie Leeuwarden
END:VEVENT
BEGIN:VEVENT
DTSTART;TZID=Europe/Amsterdam:20260318T202000
DTEND;TZID=Europe/Amsterdam:20260318T213000
DTSTAMP:20260419T140927
CREATED:20260107T075801Z
LAST-MODIFIED:20260120T100053Z
UID:143-1773865200-1773869400@mkkm.nl
SUMMARY:Les Leeuwarden - Starters
DESCRIPTION:Starters;;;;;;;;;;;;;;;
URL:https://mkkm.nl/event/les-leeuwarden-starters-9/
LOCATION:Leslocatie Leeuwarden\, Icarusweg 36\, Leeuwarden\, 8938AX\, Netherlands
CATEGORIES:Leslocatie Leeuwarden
END:VEVENT
BEGIN:VEVENT
DTSTART;TZID=Europe/Amsterdam:20260320T193000
DTEND;TZID=Europe/Amsterdam:20260320T204500
DTSTAMP:20260419T140927
CREATED:20260107T075801Z
LAST-MODIFIED:20260120T100053Z
UID:145-1774035000-1774039500@mkkm.nl
SUMMARY:Les Leeuwarden - Starters en gevorderden
DESCRIPTION:Starters en gevorderden;;;;;;;;;;;;;;;
URL:https://mkkm.nl/event/les-leeuwarden-starters-en-gevorderden-9/
LOCATION:Leslocatie Leeuwarden\, Icarusweg 36\, Leeuwarden\, 8938AX\, Netherlands
CATEGORIES:Leslocatie Leeuwarden
END:VEVENT
BEGIN:VEVENT
DTSTART;TZID=Europe/Amsterdam:20260325T190000
DTEND;TZID=Europe/Amsterdam:20260325T201500
DTSTAMP:20260419T140927
CREATED:20260107T075817Z
LAST-MODIFIED:20260120T100254Z
UID:148-1774465200-1774469700@mkkm.nl
SUMMARY:Les Leeuwarden - Gevorderden
DESCRIPTION:Gevorderden;;;;;;;;;;;;;;;
URL:https://mkkm.nl/event/les-leeuwarden-gevorderden-10/
LOCATION:Leslocatie Leeuwarden\, Icarusweg 36\, Leeuwarden\, 8938AX\, Netherlands
CATEGORIES:Leslocatie Leeuwarden
END:VEVENT
BEGIN:VEVENT
DTSTART;TZID=Europe/Amsterdam:20260325T202000
DTEND;TZID=Europe/Amsterdam:20260325T213000
DTSTAMP:20260419T140927
CREATED:20260107T075817Z
LAST-MODIFIED:20260120T100254Z
UID:149-1774470000-1774474200@mkkm.nl
SUMMARY:Les Leeuwarden - Starters
DESCRIPTION:Starters;;;;;;;;;;;;;;;
URL:https://mkkm.nl/event/les-leeuwarden-starters-10/
LOCATION:Leslocatie Leeuwarden\, Icarusweg 36\, Leeuwarden\, 8938AX\, Netherlands
CATEGORIES:Leslocatie Leeuwarden
END:VEVENT
BEGIN:VEVENT
DTSTART;TZID=Europe/Amsterdam:20260327T193000
DTEND;TZID=Europe/Amsterdam:20260327T204500
DTSTAMP:20260419T140927
CREATED:20260107T075817Z
LAST-MODIFIED:20260120T100254Z
UID:151-1774639800-1774644300@mkkm.nl
SUMMARY:Les Leeuwarden - Starters en gevorderden
DESCRIPTION:Starters en gevorderden;;;;;;;;;;;;;;;
URL:https://mkkm.nl/event/les-leeuwarden-starters-en-gevorderden-10/
LOCATION:Leslocatie Leeuwarden\, Icarusweg 36\, Leeuwarden\, 8938AX\, Netherlands
CATEGORIES:Leslocatie Leeuwarden
END:VEVENT
END:VCALENDAR